BEGIN:VCALENDAR
VERSION:2.0
PRODID:-//BileteBrasov.ro - ECPv6.15.20//NONSGML v1.0//EN
CALSCALE:GREGORIAN
METHOD:PUBLISH
X-ORIGINAL-URL:https://biletebrasov.ro
X-WR-CALDESC:Evenimente pentru BileteBrasov.ro
REFRESH-INTERVAL;VALUE=DURATION:PT1H
X-Robots-Tag:noindex
X-PUBLISHED-TTL:PT1H
BEGIN:VTIMEZONE
TZID:Europe/Bucharest
BEGIN:DAYLIGHT
TZOFFSETFROM:+0200
TZOFFSETTO:+0300
TZNAME:EEST
DTSTART:20220327T010000
END:DAYLIGHT
BEGIN:STANDARD
TZOFFSETFROM:+0300
TZOFFSETTO:+0200
TZNAME:EET
DTSTART:20221030T010000
END:STANDARD
BEGIN:DAYLIGHT
TZOFFSETFROM:+0200
TZOFFSETTO:+0300
TZNAME:EEST
DTSTART:20230326T010000
END:DAYLIGHT
BEGIN:STANDARD
TZOFFSETFROM:+0300
TZOFFSETTO:+0200
TZNAME:EET
DTSTART:20231029T010000
END:STANDARD
BEGIN:DAYLIGHT
TZOFFSETFROM:+0200
TZOFFSETTO:+0300
TZNAME:EEST
DTSTART:20240331T010000
END:DAYLIGHT
BEGIN:STANDARD
TZOFFSETFROM:+0300
TZOFFSETTO:+0200
TZNAME:EET
DTSTART:20241027T010000
END:STANDARD
END:VTIMEZONE
BEGIN:VEVENT
DTSTART;TZID=Europe/Bucharest:20230810T183000
DTEND;TZID=Europe/Bucharest:20230810T220000
DTSTAMP:20260422T160658
CREATED:20230518T114724Z
LAST-MODIFIED:20230710T125851Z
UID:11706-1691692200-1691704800@biletebrasov.ro
SUMMARY:Brasov Jazz & Blues Festival 2023 - Ziua 1
DESCRIPTION:Bilet presale (loc pe scaun): 75 lei\nBilet presale (fără loc): 70 lei Pentru a cumpăra bilete* folosiți butonele de mai jos. Apăsați o dată sau de mai multe ori în funcție de câte bilete doriți să cumpărați. \n*Copiii cu vârsta de până la 14 ani au acces gratuit la festival dacă sunt însoțiți de un adult. \nBILET \n10.08.2023 | Piața Sf. Ioan | BrașovSharrie Williams (SUA) – The Princess of Gospel Rockin’ Blues\nGospel/ Blues-Rock \n\nSharrie Williams – voce\nLars Kutschke – chitară electrică\nTill Sahm – pian\nAtilla Herr – bass\nHeiko Jung – tobe\n\nThe Princess of Gospel Rockin’ Blues face cale întoarsă la Brașov pe 10 august 2023\, când va lansa la Brașov și cel mai recent album al său ”The World is in Trouble”\, lansat deocamdată doar în variantă digitală în aprilie 2023. \nCântăreaţa de blues recunoscută internaţional provine din Statele Unite ale Americii\, dar concertează de vreo 20 ani cu mare plăcere şi în Europa. A participat la toate festivalurile prestigioase de blues din Europa şi din Statele Unite ale Americii și este supranumită prinţesa gospel blues-rock-ului. \nAsta pentru că reuşeşte să îmbine în concerte aceste 3 genuri muzicale. Atu-ul ei cel mai mare este concertul live şi spectacole pe care şi le pregăteşte temeinic\, reuşind să furnizeze un act artistic de mare calitate. A fost premiată şi nominalizată aproape la tot ceea ce se putea\, toate premiile şi distincţiile din branşa blues-ului internaţional. \nSharrie Williams este cotată printre primii 15 interpreți de blues din Statele Unite. În jurul ei s-au creat şi alte trei trupe foarte cunoscute în domeniul blues-ului\, toţi fac parte din topul celor mai buni interpreți de blues la ora actuală aflaţi pe val. \nAvem multe lucruri pentru care să fim recunoscători\, iar faptul că Sharrie Williams face parte din ”familia” festivalului nostru este unul dintre ele. Sharrie va da tonul festivalului nostru în acest an și ne va mai vindeca puțin sufletele cu muzica ei\, plină de mesaj. \nTommy Castro & The Painkillers: B.B. King Entertainer of the Year 2023 comes to Brasov\nBlues – Rock \n\nTommy Castro – chitară electrică\, voce\nMichael Emerson – keys\nRandy McDonald – bass\nBowen Brown – tobe\n\nTommy Castro și trupa sa The Painkillers revin în sfârșit în Europa pentru a sărbători cea de-a 30-a aniversare a trupei sale\, dar și pentru lansarea celui mai recent album al său „A Bluesman Came To Town”\, iar ultima oprire din turneul european va fi la Brașov pe 10 august. \nTOMMY CASTRO (SUA)\, artist Soul/Blues/Rock\, câștigător a trei Blues Music Awards în 2022\, pentru B.B. King Entertainer of the Year (premiu deja câștigat în 2010 și 2018)\, Albumul anului pentru A Bluesman Came to Town\, Band of the Year pentru Tommy Castro & The Painkillers\, trupă aflată acum în turneu aniversar de 30 ani de activitate. În 2023\, Tommy Castro a fost nominalizat a fost nominalizat la categoria Artistul Blues Rock al anului și a câștigat pentru a patra oară premiul B.B. King Entertainer of the Year! \nDe la debutul său solo în 1994\, Tommy Castro a lansat 19 albume – ultimele șapte pentru Alligator – fiecare dintre acestea reprezentând un capitol unic din istoria lui Tommy Castro. De la R&B la blues pătimaș și până la rock ‘n’ roll autentic\, fiecare album este construit pe fundația muzicală de nezdruncinat al lui Castro – un amestec dinamic de blues al anilor ‘60\, cu accente soul și funk cu tentă latină\, toate potențate de vocea și chitara uluitoare ale lui Castro. \nÎn cei 30 ani de activitate\, Tommy Castro și The Painkillers au susținut peste 6000 concerte\, dintre care 3 sezoane ca trupă rezidentă pentru producția HBO „Comedy Showcase”\, două turnee cu BB King și Buddy Guy\, 40 de croaziere muzicale și au concertat la dintre unele cele mai mari festivaluri de muzică la nivel mondial. De-a lungul timpul au colaborat cu artiști precum: John Lee Hooker\, Carlos Santana\, Bob Weir\, Gregg Allman\, Dr John\, Willie Nelson\, Jeff Beck\, Joe Bonamassa\, Elvin Bishop\, Charlie Musselwhite\, Magic Dick din trupa J. Geils\, Taj Mahal și Los Lobos. \nViața de turneu a fost întotdeauna a doua casă a lui Castro. Este un entertainer impresionant\, captează aproape instantaneu atenția publicului și transformă mulțimile în fani devotați. Legendarul chitarist Joe Bonamassa spune despre Castro: „Tommy a fost întotdeauna pe primul loc în rândul chitariștilor de blues. El livrează întotdeauna un show grozav.” \nCel mai recent al album al lui Castro\, o odisee adusă rădăcinilor sale muzicale\, intitulat Tommy Castro Presents A Bluesman Came To Town\, spune o poveste atemporală. La aceste proiect special Castro a lucrat împreună cu producătorul distins cu premiul Grammy – Tom Hambridge. Albumul spune povestea unui tânăr care lucrează la ferma familiei sale\, și care este ”infectat” cu virusul bluesului. Pleacă la drum cu chitara sa în căutare de faimă și avere\, doar pentru a descoperi că ceea ce a lăsat în urmă este comoara pe care a căutat-o în tot acest timp. Tommy Castro spune despre albumul „A Bluesman Came To Town” că ”nu este o poveste despre mine. Totuși\, este inspirat din experiențele unora dintre prietenii mei. Am simțit direct pe pielea mea cum este să fii mereu pe drum.” \nAșadar\, concertul lui Tommy Castro din cadrul Braşov Jazz & Blues Festival e realmente un eveniment ce nu trebuie ratat de niciun fan al bluesului.
URL:https://biletebrasov.ro/eveniment/brasov-jazz-blues-festival-2023-ziua-1/
LOCATION:Piața Sf. Ioan – Brașov\, Piața Sf. Ioan\, Brasov\, Brasov\, 500260\, România
CATEGORIES:Brașov Jazz & Blues Festival 2023
ATTACH;FMTTYPE=image/jpeg:https://biletebrasov.ro/wp-content/uploads/2023/05/FI-BJBF2023-z1a.jpg
END:VEVENT
BEGIN:VEVENT
DTSTART;TZID=Europe/Bucharest:20230810T183000
DTEND;TZID=Europe/Bucharest:20230813T220000
DTSTAMP:20260422T160658
CREATED:20230519T161132Z
LAST-MODIFIED:20230519T183241Z
UID:11935-1691692200-1691964000@biletebrasov.ro
SUMMARY:Abonament Brasov Jazz&Blues Festival 2023
DESCRIPTION:Abonament presale (loc pe scaun): 250 lei\nAbonament presale (fără loc): 225 lei Pentru a cumpăra bilete* folosiți butonele de mai jos. Apăsați o dată sau de mai multe ori în funcție de câte bilete doriți să cumpărați. \n*Copiii cu vârsta de până la 14 ani au acces gratuit la festival dacă sunt însoțiți de un adult. \nBILET \n10 – 13.08.2023 | Piața Sf. Ioan | BrașovHere we go again! Brasov Jazz & Blues Festival revine între 10 și 15 august cu ediția #11 \nTimp de 6 zile ne propunem să creăm o lume așa cum ne dorim noi să fie\, o lume în care oricine e binevenit\, de la mic\, la mare\, în care fiecare notă spune o poveste\, fiecare artist transmite o emoție și fiecare moment se transformă într-o amintire pentru suflet. \nÎn minivacanta de Sf. Maria Brașovul va vibra din nou pe ritmuri de jazz și blues. Ne mănâncă degetele de ceva vreme să vă spunem ce aduce nou ediția cu numărul 11\, așa că vă invităm să descoperim artiștii care vor face magie pe scenă în acest an. \nProgram Brasov Jazz & Blues Festival 2023\nScena Piața Sf. Ioan \nJoi\, 10 august 2023\nOra 18.30: Sharrie Williams (SUA/DE)\nOra 20.30: Tommy Castro & The Painkillers (SUA) \nVineri\, 11 august 2023\nOra 18.30: Rita Marcotulli & Luciano Biondini (IT)\nOra 20.30: Antonio Lizana & Oriente (SP) \nSâmbătă\, 12 august 2023\nOra 18.30: The Bluesbones (BE)\nOra 20.30: Johnny Rawls (SUA) \nDuminică\, 13 august 2023\nOra 18.30: Lucy Woodward & Soundsville (UK)\nOra 20.30: Alabama Mike (SUA)
URL:https://biletebrasov.ro/eveniment/abonament-brasov-jazzblues-festival-2023/
LOCATION:Piața Sf. Ioan – Brașov\, Piața Sf. Ioan\, Brasov\, Brasov\, 500260\, România
CATEGORIES:Brașov Jazz & Blues Festival 2023
ATTACH;FMTTYPE=image/jpeg:https://biletebrasov.ro/wp-content/uploads/2023/05/FI-BJBF2023-abonament.jpg
END:VEVENT
BEGIN:VEVENT
DTSTART;TZID=Europe/Bucharest:20230811T183000
DTEND;TZID=Europe/Bucharest:20230811T220000
DTSTAMP:20260422T160658
CREATED:20230519T145512Z
LAST-MODIFIED:20230710T125844Z
UID:11884-1691778600-1691791200@biletebrasov.ro
SUMMARY:Brasov Jazz & Blues Festival 2023 - Ziua 2
DESCRIPTION:Bilet presale (loc pe scaun): 75 lei\nBilet presale (fără loc): 70 lei Pentru a cumpăra bilete* folosiți butonele de mai jos. Apăsați o dată sau de mai multe ori în funcție de câte bilete doriți să cumpărați. \n*Copiii cu vârsta de până la 14 ani au acces gratuit la festival dacă sunt însoțiți de un adult. \nBILET \n11.08.2023 | Piața Sf. Ioan | BrașovRita Marcotulli & Luciano Biondini sau puterea duetului\nJazz \n\nRita Marcotulli – pian\nLuciano Biondini – acordeon\n\nDuetul este unul dintre cele mai minimaliste moduri de a face muzică împreună\, dar și unul dintre cele mai captivante – doi oameni care se bazează în întregime unul pe celălalt într-un dialog magic plin de candoare și armonie. \nCea mai valoroasă compozitoare şi pianistă de Jazz din Italia\, Rita Marcotulli (n.1959)\, absolventă a prestigiosului Conservatorio Santa Cecilia unde acum este profesoară\, s-a lansat cu mare succes ca muzician la începutul anilor ’80\, la numai 20 şi ceva de ani. Marcotulli și-a croit o carieră internațională impresionantă într-un timp foarte scurt\, lucrând alături de mari nume din jazz (Chet Baker\, Joe Lovano\, Paul Bley\, Palle Danielsson\, Michel Portal\, Enrico Rava\, Pat Metheny și Nguyên Lê)\, dar și cu legende ale scenei muzicale italiene\, precum compozitorii Pino Daniele și Gianmaria Testa. \nPartenerul ei de scenă\, Luciano Biondini\, cu care a cântat împreună într-un cvartet timp de câțiva ani\, este unul dintre cei mai buni cântăreți de acordeon din Europa. Rabih Abou-Khalil\, Michel Godard\, Enrico Rava și tânărul violonist polonez Adam Bałdych\, consideră că măiestria sa la acordeon este dramatică\, dar în același timp transmite și o emoție copleșitoare\, fără a se pierde în superficialitatea tehnică. La fel ca Rita Marcotulli\, dragostea sa pentru jazz își are rădăcinile în bogata tradiție muzicală italiană. \nLegătura dintre Rita Marcotulli și Luciano Biondini stă în puterea muzicii\, iar „La Strada Invisibile” este calea lor comună în căutarea magiei momentului. Originea modului intuitiv în care comunică pe scenă poate fi explicat de asemănările izbitoare ale parcursului lor muzical de până în prezent: ambii au început cu muzica clasică de la o vârstă foarte fragedă\, ambii și-au desăvârșit măiestria cu o educație clasică și ambii sunt legați de dragostea pentru cântecele tradiționale ale patriei lor\, Italia. \nFie că vorbim de jazz\, muzică clasică sau cântece tradiționale italiene\, muzica lor este plină de umor\, melancolie\, tandrețe și temperament. Poate fi considerat un clișeu faptul că sensibilitatea\, emoția și lejeritatea ”de a fi” sunt considerate a fi tipic italiene\, dar există un sâmbure de adevăr în fiecare clișeu\, așa cum ne vor demonstra pe 11 august când vor concerta împreună pe scena Brasov Jazz & Blues Festival\, ed. a XI-a\, 2023. \nAntonio Lizana & Oriente\nNew Flamenco Jazz \n\nAntonio Lizana Coca – saxofon\, voce\nJose Maria Castaño Mateo – dansator\, voce\nDavid Sancho Mangas – pian\nArin Keshishi – bass\n\nAntonio Lizana este unul dintre cei mai celebri reprezentanți ai New Flamenco Jazz provenind din sudul Spaniei. Saxofonist\, cântăreț de flamenco și compozitor\, a susținut peste 300 de concerte în mai mult de 30 de țări cu trupa sa\, cântând în festivaluri precum Womex\, Etnosur\, SXSW Austin\, Festivalurile Flamenco de Londra\, New York și San Francisco\, Barcelona Voll Damn\, Shanghai Jazz Fest (China)\, Casablanca Jazz Fest (Maroc) și Flamenco Biennale (Țările de Jos). \nS-a născut în 1986 și a crescut în San Fernando\, o provincie din Cádiz\, leagănul flamenco-ului\, unde de mic a colaborat cu nenumărați artiști din zonă. A colaborat cu artiști precum Arturo O’Farrill și Alejandro Sanz la albume care au fost distinse cu premii Grammy. De asemenea\, a colaborat cu Snarky Puppy\, Marcus Miller\, Chano Domínguez\, Alfredo Rodríguez\, Ari Hoenig\, Jorge Drexler\, India Martínez\, Jorge Pardo\, Shai Maestro\, Chambao\, José Mercé\, Josemi Carmona\, Carmen Linares și Pepe Habichuela. \nShow-ul live susținut de Lizana este descris ca o „călătorie uluitoare de la rădăcinile flamencoului la jazz contemporan”\, îmbogățită de mesajele de optimism din versurile sale.
URL:https://biletebrasov.ro/eveniment/brasov-jazz-blues-festival-2023-ziua-2/
LOCATION:Piața Sf. Ioan – Brașov\, Piața Sf. Ioan\, Brasov\, Brasov\, 500260\, România
CATEGORIES:Brașov Jazz & Blues Festival 2023
ATTACH;FMTTYPE=image/jpeg:https://biletebrasov.ro/wp-content/uploads/2023/05/FI-BJBF2023-z2.jpg
END:VEVENT
BEGIN:VEVENT
DTSTART;TZID=Europe/Bucharest:20230812T183000
DTEND;TZID=Europe/Bucharest:20230812T220000
DTSTAMP:20260422T160658
CREATED:20230519T153404Z
LAST-MODIFIED:20230710T125825Z
UID:11905-1691865000-1691877600@biletebrasov.ro
SUMMARY:Brasov Jazz & Blues Festival 2023 - Ziua 3
DESCRIPTION:Bilet presale (loc pe scaun): 75 lei\nBilet presale (fără loc): 70 lei Pentru a cumpăra bilete* folosiți butonele de mai jos. Apăsați o dată sau de mai multe ori în funcție de câte bilete doriți să cumpărați. \n*Copiii cu vârsta de până la 14 ani au acces gratuit la festival dacă sunt însoțiți de un adult. \nBILET \n12.08.2023 | Piața Sf. Ioan | BrașovThe Bluesbones  – ”highly imaginative guitar\, organ playing and blues-rock attitude”\nBlues-Rock \n\nNico De Cock – voce\nStef Paglia – chitară electrică\nEdwin Risbourg – hammond\nGeert Boeckx – bass\nJens Roelandt – tobe\n\nThe Bluesbones sunt considerați una din cele mai bune trupe de blues din Europa\, cu hituri nr. 1 în Blues/Rock Charts top 50 RMR USA și Blues Charts top 40 IBBA UK și participări notabile la European Blues Challenge. Muzica lor este un amestec de blues și rock clasic adus în contemporaneitate\, vine cu o voce puternică\, riff-uri dinamice de chitară și o rezonanță deosebită a orgii Hammond. \nTrupa a lansat mai multe albume\, printre care „Voodoo Guitar” (2012)\, „Chasing Shadows” (2015)\, „Double Live” (2016)\, „Saved by the Blues” (2018) și „Live on stage” (2019). \nThe BluesBones au avut plăcerea de a împărți scena cu trupe precum King King\, Jimmy Vaughan\, Seasick Steve\, Tommy Castro\, Guy Forsyth\, Laurence Jones\, Danny Bryant\, The Nimmo Brothers\, Jimmy Thackery\, Dan Patlansky. \nJohnny Rawls – A Soul Blues Legend\nSoul Blues \nJohnny Rawls este o legendă a soul blues-ul. De fapt\, termenul „soul blues” a fost inventat pentru a descrie muzica sa. Are o carieră de peste 50 de ani\, este un artist\, producător de muzică și compozitor recunoscut la nivel internațional care călătorește extensiv în toată lumea. \nA primit mai multe premii și nominalizări din partea Blues Music Awards\, Blues Blast Awards\, Living Blues Awards și W. C. Handy Awards\, inclusiv Artistul Soul al Anului și Albumul Soul al Anului pentru albumul ”I’m still around” în 2019. Living Blues Magazine l-a descris ca fiind un „artist soul-blues renascentist” atunci când a apărut pe coperta revistei în 2002. \nNăscut în Mississippi în 1951\, Rawls a fost atras de muzică încă din copilărie. A început să cânte la clarinet în formația școlii\, și în următorii doi ani știa deja să cânte la saxofon\, trompetă și alte instrumente. Johnny a devenit interesat de chitară atunci când l-a auzit pe bunicul său cântând într-o dimineață de Crăciun și\, la vârsta de 13 ani\, cânta la chitară la modul serios. Profesorul de muzică din liceu al lui Rawls avea o trupă profesionistă care acompania artiști soul și i-a propus lui Johnny să se alăture trupei ca saxofonist. Așa a început cariera de muzician profesionist a lui Rawls\, iar la vârsta de 15 ani cânta deja cu artiști precum ZZ Hill\, Little Johnny Taylor\, Joe Tex și The Sweet Inspirations. \nJohnny Rawls și-a început cariera solo în 1985. Compozitor prolific\, a înregistrat sute de cântece și a lansat peste 15 albume de la albumul său solo de debut\, Here We Go\, în 1996. \nOdată cu lansarea albumului „I’m Still Around” în 2018\, Rawls a revenit la rădăcinile sale adânc înfipte în Mississippi Soul Blues. Toate melodiile de pe acest album\, care i-au adus și premiul Albumul Soul al Anului  la BMA 2019\, au fost compuse și aranjate de Rawls. \nIndiferent că e vorba de un concert într-un club intim sau un mare festival de blues\, Johnny Rawls oferă întotdeauna un show plin de energie spre deliciul publicului\, iar concertul de la Brașov de pe 12 august nu face excepție de la regulă!
URL:https://biletebrasov.ro/eveniment/brasov-jazz-blues-festival-2023-ziua-3/
LOCATION:Piața Sf. Ioan – Brașov\, Piața Sf. Ioan\, Brasov\, Brasov\, 500260\, România
CATEGORIES:Brașov Jazz & Blues Festival 2023
ATTACH;FMTTYPE=image/jpeg:https://biletebrasov.ro/wp-content/uploads/2023/05/FI-BJBF2023-z3.jpg
END:VEVENT
BEGIN:VEVENT
DTSTART;TZID=Europe/Bucharest:20230813T183000
DTEND;TZID=Europe/Bucharest:20230813T220000
DTSTAMP:20260422T160658
CREATED:20230519T155146Z
LAST-MODIFIED:20230710T125802Z
UID:11917-1691951400-1691964000@biletebrasov.ro
SUMMARY:Brasov Jazz & Blues Festival 2023 - Ziua 4
DESCRIPTION:Bilet presale (loc pe scaun): 75 lei\nBilet presale (fără loc): 70 lei Pentru a cumpăra bilete* folosiți butonele de mai jos. Apăsați o dată sau de mai multe ori în funcție de câte bilete doriți să cumpărați. \n*Copiii cu vârsta de până la 14 ani au acces gratuit la festival dacă sunt însoțiți de un adult. \nBILET \n13.08.2023 | Piața Sf. Ioan | BrașovSOUNDSVILLE FEATURING LUCY WOODWARD – A jaw-dropping listening experience \nSoul-Blues \n\nLucy Woodward – voce\nLars Kutschke – chitară electrică\nAlberto Marsico – hammond\nLuca Guarino – tobe\n\nFor this special concert in Brasov\, American singer Lucy Woodward will join the European organ trio Soundsville for an epic summer festival night. Lucy and Soundsville performed together for the first time  in Germany in 222 and felt they had a “connection” with their dynamic blend of crossing musical genres. Alberto Marsico (organ) and Lars Kutschke (guitar) have a long\, trusted history together. They founded Soundsville in 2006 and recorded 2 albums\, drawing from their deep knowledge of the blues\, jazz\, gospel\, funk and psychedelic rock. \nLUCY WOODWARD has released several 6 albums and has recorded and toured with artists such as Snarky Puppy\, Charlie Hunter\, Rod Stewart\, Celine Dion and Pink Martini (singing in Japanese\, Croatian & Turkish). Lucy has also been a guest with WDR Big Band and Frankfurt Radio Big Band and has sung on many movie soundtracks. She will be releasing her 7th album this year. \nALBERTO MARSICO started playing the Hammond organ after attending a workshop by the legendary Jack McDuff (who would later record “Jackpot”\, a tune Alberto had dedicated to him). He has become one of Europe’s most renowned organ players having toured worldwide with Jimmy Cobb\, Jimmy Witherspoon\, Kenny Burrell\, Larry Taylor and Fabrizio Bosso. \nLARS KUTSCHKE has cut his teeth touring more than 40 countries playing guitar with gospel-blues singer Sharrie Williams as well as artists such as the legendary Bettye Lavette\, Tad Robinson and German pop-act Alphaville. \nThe newest member of Soundsville is drummer LUCA GUARINO who has worked alongside Marsico with many projects over the last few years. \nThe Soundsville’s repertoire will be based on the love all 4 musicians have for blues\, jazz and gospel music consisting of classic songs and standards from artists such as include Nina Simone and Donny Hathaway\, including some originals. It will be a special evening you do not want to miss! \nAlabama Mike – The Future of Blues \nChicago Blues \nAlabama Mike este un artist de blues în stil Chicago\, iar muzica sa\, considerată revigorant de relevantă pentru secolul XX\, amintește de un tânăr BB King sau Buddy Guy\, Buddy Guy\, dar şi de Elmore James și Little Johnny Taylor. Alabama Mike a fost nominalizat la Blues Music Awards la categoria „Cel mai bun artist de Blues tradițional” în 2016. \nAnimat de dorința de a-și dezvolta în permanență muzica prin diversificarea colaborărilor\, ultimele sale două albume produse de Kid Andersen și Big Jon Atkinson sunt apreciate atât de critici\, cât și de publicul larg. Interpret cu o voce expresivă și versatilă\, Alabama Mike este capabil să treacă de la blues acustic la cel mai clasic Soul-Blues\, iar includerea sa în catalogul Soul Shot este o oportunitate pentru publicul european de a descoperi pe scenă un artist major\, ale cărui prestații live se ridică la înălțimea talentului său de compozitor\, adânc înfipt în sonoritățile contemporane. \nDe-a lungul vremii\, Alabama Mike a avut ocazia să împartă scena cu legende ale bluesului precum The Fabulous Thunderbirds\, John Primer\, Lurrie Bell\, Steve Freund\, Bobby Rush\, Johnny Rawls\, Fillmore Slim\, R. J. Mischo\, DeWayne Wiggins\, Willie (Big Eyes) Smith.
URL:https://biletebrasov.ro/eveniment/brasov-jazz-blues-festival-2023-ziua-4/
LOCATION:Piața Sf. Ioan – Brașov\, Piața Sf. Ioan\, Brasov\, Brasov\, 500260\, România
CATEGORIES:Brașov Jazz & Blues Festival 2023
ATTACH;FMTTYPE=image/jpeg:https://biletebrasov.ro/wp-content/uploads/2023/05/FI-BJBF2023-z4a.jpg
END:VEVENT
END:VCALENDAR