BEGIN:VCALENDAR
VERSION:2.0
PRODID:-//BileteBrasov.ro - ECPv6.15.20//NONSGML v1.0//EN
CALSCALE:GREGORIAN
METHOD:PUBLISH
X-WR-CALNAME:BileteBrasov.ro
X-ORIGINAL-URL:https://biletebrasov.ro
X-WR-CALDESC:Evenimente pentru BileteBrasov.ro
REFRESH-INTERVAL;VALUE=DURATION:PT1H
X-Robots-Tag:noindex
X-PUBLISHED-TTL:PT1H
BEGIN:VTIMEZONE
TZID:Europe/Bucharest
BEGIN:DAYLIGHT
TZOFFSETFROM:+0200
TZOFFSETTO:+0300
TZNAME:EEST
DTSTART:20240331T010000
END:DAYLIGHT
BEGIN:STANDARD
TZOFFSETFROM:+0300
TZOFFSETTO:+0200
TZNAME:EET
DTSTART:20241027T010000
END:STANDARD
BEGIN:DAYLIGHT
TZOFFSETFROM:+0200
TZOFFSETTO:+0300
TZNAME:EEST
DTSTART:20250330T010000
END:DAYLIGHT
BEGIN:STANDARD
TZOFFSETFROM:+0300
TZOFFSETTO:+0200
TZNAME:EET
DTSTART:20251026T010000
END:STANDARD
BEGIN:DAYLIGHT
TZOFFSETFROM:+0200
TZOFFSETTO:+0300
TZNAME:EEST
DTSTART:20260329T010000
END:DAYLIGHT
BEGIN:STANDARD
TZOFFSETFROM:+0300
TZOFFSETTO:+0200
TZNAME:EET
DTSTART:20261025T010000
END:STANDARD
END:VTIMEZONE
BEGIN:VEVENT
DTSTART;VALUE=DATE:20251029
DTEND;VALUE=DATE:20251103
DTSTAMP:20260423T010834
CREATED:20251008T140319Z
LAST-MODIFIED:20251029T113506Z
UID:49325-1761696000-1762127999@biletebrasov.ro
SUMMARY:Abonament competiție lungmetraje
DESCRIPTION:Preț abonament: 50 leiPentru a cumpăra bilete folosiți butonul alăturat. Apăsați o dată sau de mai multe ori în funcție de câte bilete doriți să cumpărați. \nBILET \nAbonamentul asigură intrarea la cele 10 filme din cadrul competiției de lungmetraje. \nRating: N-15 (Nerecomandat copiilor sub 15 ani) \nJoi\, 30 octombrie 2025\, Cinema Modern\, sala 2\, Ora 17.00 \nPIG THAT SURVIVED FOOT-AND-MOUTH DISEASE \n(Coreea de Sud\, 2024\, r: Bum-wook Hur) \n\nJoi\, 30 octombrie 2025\, Cinema Modern\, sala 1\, Ora 18.00 \nA WWII FAIRY TALE \n(UK\, 2025\, r: Stewart Buck & Stephane Piter) \n\nJoi\, 30 octombrie 2025\, Cinema Modern\, sala 2\, Ora 19.00 \nH0101N \n(SUA\, 2024\, r: Luca Canale B.) \n\nJoi\, 30 octombrie 2025\, Cinema Modern\, sala 2\, Ora 21.00 \nLILY’S RITUAL \n(Spania\, 2025\, r: Manu Herrera) \n\nVineri\, 31 octombrie 2025\, Cinema Modern\, sala 1\, Ora 17.00 \nPARALLEL CONSEQUENCES \n(Brazilia\, 2025\, r: Gabriel França & CD Vallada) \n\nVineri\, 31 octombrie 2025\, Cinema Modern\, sala 2\, Ora 17.00 \nAPOLLON BY DAY ATHENA BY NIGHT \n(Turcia\, 2024\, r: Emine Yildirim) \n\nVineri\, 31 octombrie 2025\, Cinema Modern\, sala 2\, Ora 19.00 \nEVER AFTER \n(SUA\, 2025\, r: Laszlo Illes) \n\nVineri\, 31 octombrie 2025\, Cinema Modern\, sala 2\, Ora 21.30 \nLABYRINTH \n(SUA\, 2025\, r: Ryuhei Kitamura) \n\nSâmbătă\, 1 noiembrie 2025\, Cinema Modern\, sala 2\, Ora 13.00 \nSASYQ \n(Kazahstan\, 2025\, r: Yerden Telemissov) \n\nSâmbătă\, 1 noiembrie 2025\, Cinema Modern\, sala 2\, Ora 15.00 \nTHE KRAMPUS RISES \n(Italia/Spania/SUA\, 2025\, r: Andrea Dalfino)
URL:https://biletebrasov.ro/eveniment/abonament-competitie-lungmetraje/
LOCATION:Cinema Modern\, Bulevardul Griviței 65\, Brașov\, 500198\, Romania
CATEGORIES:Dracula Film Festival 2025
ATTACH;FMTTYPE=image/jpeg:https://biletebrasov.ro/wp-content/uploads/2025/10/Dracula-Film-Festival-2025-Abonament-Lungmetraje.jpg
END:VEVENT
BEGIN:VEVENT
DTSTART;VALUE=DATE:20251029
DTEND;VALUE=DATE:20251103
DTSTAMP:20260423T010834
CREATED:20251008T142312Z
LAST-MODIFIED:20251008T145045Z
UID:49335-1761696000-1762127999@biletebrasov.ro
SUMMARY:Full Pass Dracula Film Festival 2025
DESCRIPTION:Preț abonament: 150 leiPentru a cumpăra bilete folosiți butonul alăturat. Apăsați o dată sau de mai multe ori în funcție de câte bilete doriți să cumpărați. \nBILET \nAbonamentul asigură intrarea la toate filmele care rulează în cadrul festivalului.
URL:https://biletebrasov.ro/eveniment/full-pass-dracula-film-festival-2025/
LOCATION:Cinema Modern\, Bulevardul Griviței 65\, Brașov\, 500198\, Romania
CATEGORIES:Dracula Film Festival 2025
ATTACH;FMTTYPE=image/jpeg:https://biletebrasov.ro/wp-content/uploads/2025/10/Dracula-Film-Festival-2025-Full-Pass.jpg
END:VEVENT
BEGIN:VEVENT
DTSTART;TZID=Europe/Bucharest:20251101T110000
DTEND;TZID=Europe/Bucharest:20251101T110000
DTSTAMP:20260423T010834
CREATED:20251007T135337Z
LAST-MODIFIED:20251029T113545Z
UID:49128-1761994800-1761994800@biletebrasov.ro
SUMMARY:Zooapocalipsa (2025)
DESCRIPTION:Preț bilet: 15 leiPentru a cumpăra bilete folosiți butonul alăturat. Apăsați o dată sau de mai multe ori în funcție de câte bilete doriți să cumpărați. \nBILET \nCopii fantastici – film pentru copii\nDublat în limba română \nZooapocalipsa (2025) \nPreț bilet unic (copii și adulți): 15 lei \nDurata: 1 h 31 min. \nPremiera în România: 31.10.2025 \nGen: Animație \nRating: AP-12 (Acordul părinților sub 12 ani) \nRO: Ce se întâmplă când o epidemie zombie lovește o grădină zoologică aparent liniștită? „Zooapocalipsa” este o comedie animată adorabil de terifiantă\, în care un grup de animale neobișnuite pornește într-o aventură haotică pentru a opri răspândirea virusului. O poveste plină de umor\, acțiune și prietenie\, potrivită pentru toate vârstele. \nEN: What happens when a zombie outbreak hits a seemingly peaceful zoo? Night of the Zoopocalypse is a delightfully terrifying animated comedy where a group of unlikely animal heroes embarks on a chaotic mission to stop the virus. A fun\, action-packed\, and heartwarming story for all ages.
URL:https://biletebrasov.ro/eveniment/zooapocalipsa-2025/
LOCATION:Cinema Modern\, Sala 1\, Bulevardul Griviței 65\, Brașov\, Brașov\, 500198\, Romania
CATEGORIES:Dracula Film Festival 2025
ATTACH;FMTTYPE=image/jpeg:https://biletebrasov.ro/wp-content/uploads/2025/10/Dracula-Film-Festival-2025-Zooapocalipsa.jpg
END:VEVENT
BEGIN:VEVENT
DTSTART;TZID=Europe/Bucharest:20251101T130000
DTEND;TZID=Europe/Bucharest:20251101T130000
DTSTAMP:20260423T010834
CREATED:20251007T135728Z
LAST-MODIFIED:20251029T112737Z
UID:49130-1762002000-1762002000@biletebrasov.ro
SUMMARY:SASYQ (Kazahstan\, 2025)
DESCRIPTION:Preț bilet: 10 leiPentru a cumpăra bilete folosiți butonul alăturat. Apăsați o dată sau de mai multe ori în funcție de câte bilete doriți să cumpărați. \nBILET \nCompetiția de lungmetraj\nSASYQ (Kazahstan\, 2025\, r: Yerden Telemissov)\nPreț bilet: 10 lei \nDurata: 1 h 36 min \nRating: N-15 (Nerecomandat copiilor sub 15 ani) \nRO: O dramedie SF cu ton ludic\, ce evocă povestea din „E.T.”. Numai că „reprezentantul omenirii” este un pensionar alcoolic și singuratic\, hăituit de birocrați. \nEN: A playful sci-fi dramedy reminiscent of E.T.\, except this time humanity’s “representative” is a lonely\, alcoholic retiree hunted by bureaucrats.
URL:https://biletebrasov.ro/eveniment/sasyq-kazahstan-2025/
LOCATION:Cinema Modern\, Sala 2\, Bulevardul Griviței 65\, Brașov\, 500198\, Romania
CATEGORIES:Dracula Film Festival 2025
ATTACH;FMTTYPE=image/jpeg:https://biletebrasov.ro/wp-content/uploads/2025/10/Dracula-Film-Festival-2025-Sasyq.jpg
END:VEVENT
BEGIN:VEVENT
DTSTART;TZID=Europe/Bucharest:20251101T150000
DTEND;TZID=Europe/Bucharest:20251101T150000
DTSTAMP:20260423T010834
CREATED:20251007T140334Z
LAST-MODIFIED:20251029T112630Z
UID:49134-1762009200-1762009200@biletebrasov.ro
SUMMARY:The Winter (Grecia\, 2013)
DESCRIPTION:Preț bilet: 10 leiPentru a cumpăra bilete folosiți butonul alăturat. Apăsați o dată sau de mai multe ori în funcție de câte bilete doriți să cumpărați. \nBILET \nThe Winter (Grecia\, 2013)\nCuvânt înainte: Konstantinos Koutsoliotas (Regiorul filmului\, Președinte juriu Dracula Film Festival) \nPreț bilet: 10 lei \nDurata: 1 h 41 min. \nRegia: Konstantinos Koutsoliotas \nGen: Dramă\, Mister\, Fantasy \nRating: N-15 (Nerecomandat copiilor sub 15 ani) \nRO: Când situația financiară a lui Niko scapă de sub control\, el se refugiază în casa familiei din orașul montan Siatista\, din Grecia. Înconjurat de fantomele trecutului\, Niko trebuie să dezlege misterul morții tatălui său. \nEN: When Niko’s finances go astray\, he hides out in thefamily house in the Greek mountain town of Siatista. Surrounded by ghosts of his past\, Niko must uncover the mystery of his father’s death.
URL:https://biletebrasov.ro/eveniment/the-winter-grecia-2013/
LOCATION:Cinema Modern\, Sala 1\, Bulevardul Griviței 65\, Brașov\, Brașov\, 500198\, Romania
CATEGORIES:Dracula Film Festival 2025
ATTACH;FMTTYPE=image/jpeg:https://biletebrasov.ro/wp-content/uploads/2025/10/Dracula-Film-Festival-2025-The-winter.jpg
END:VEVENT
BEGIN:VEVENT
DTSTART;TZID=Europe/Bucharest:20251101T170000
DTEND;TZID=Europe/Bucharest:20251101T170000
DTSTAMP:20260423T010834
CREATED:20251007T140815Z
LAST-MODIFIED:20251029T112608Z
UID:49136-1762016400-1762016400@biletebrasov.ro
SUMMARY:Competiția de scurtmetraje (reluare)
DESCRIPTION:Preț bilet: 10 leiPentru a cumpăra bilete folosiți butonul alăturat. Apăsați o dată sau de mai multe ori în funcție de câte bilete doriți să cumpărați. \nBILET \nCompetiția de scurtmetraje (reluare)\n3 calupuri internaționale + 1 calup de scurtmetraje românești \nPreț bilet: 10 lei (total 5 h 20 min) \nRating: N-15 (Nerecomandat copiilor sub 15 ani) \nCALUP 1 scurtmetraje internaționale \nDurata: 1 h 13 min \nCALUP 2 scurtmetraje internaționale \nDurata: 1 h 09 min \nCALUP 3 scurtmetraje internaționale \nDurata: 1 h 15 min \nCALUP scurtmetraje românești \nDurata: 1 h 43 min
URL:https://biletebrasov.ro/eveniment/competitia-de-scurtmetraje-reluare/
LOCATION:Cinema Modern\, Sala 2\, Bulevardul Griviței 65\, Brașov\, 500198\, Romania
CATEGORIES:Dracula Film Festival 2025
ATTACH;FMTTYPE=image/jpeg:https://biletebrasov.ro/wp-content/uploads/2025/10/Dracula-Film-Festival-2025-Scurtmetraje-reluare.jpg
END:VEVENT
BEGIN:VEVENT
DTSTART;TZID=Europe/Bucharest:20251101T190000
DTEND;TZID=Europe/Bucharest:20251101T190000
DTSTAMP:20260423T010834
CREATED:20251007T144930Z
LAST-MODIFIED:20251029T112534Z
UID:49139-1762023600-1762023600@biletebrasov.ro
SUMMARY:SISU: Drumul răzbunării (SUA\, 2025)
DESCRIPTION:Preț bilet: 25 leiPentru a cumpăra bilete folosiți butonul alăturat. Apăsați o dată sau de mai multe ori în funcție de câte bilete doriți să cumpărați. \nBILET \nGALA DE DECERNARE A PREMIILOR DRACULA FILM FESTIVAL 2025\nProiecție în avanpremieră națională \nSISU: Drumul răzbunării / SISU: Road to Revenge (SUA 2025)\nPreț bilet: 25 lei \nDurata: 1 h 28 min. \nRegia: Jalmari Helander \nCu: Stephen Lang\, Richard Brake\, Jorma Tommila\, Einar Haraldsson \nPremieră România: 21.11.2025 \nGen: Acțiune\, Război \nRating: N-15 (Nerecomandat copiilor sub 15 ani) \nRO: Aatami Korpi se întoarce acasă după Al Doilea Război Mondial\, doar pentru a-și găsi familia ucisă. Hotărât să-și reconstruiască viața\, el pornește într-o călătorie care se transformă într-o confruntare sângeroasă cu comandantul sovietic responsabil pentru tragedia sa. Jalmari Helander semnează o continuare explozivă\, un amestec nebunesc de acțiune\, umor negru și un stil vizual inspirat de filmele mute. \nEN: Aatami Korpi returns home after World War II only to find his family murdered. Determined to rebuild his life\, he sets out on a journey that turns into a bloody showdown with the Soviet commander responsible for his tragedy. Jalmari Helander delivers an explosive sequel — a wild mix of action\, dark humor\, and a visual style inspired by silent cinema.
URL:https://biletebrasov.ro/eveniment/sisu-drumul-razbunarii-sua-2025/
LOCATION:Cinema Modern\, Sala 1\, Bulevardul Griviței 65\, Brașov\, Brașov\, 500198\, Romania
CATEGORIES:Dracula Film Festival 2025
ATTACH;FMTTYPE=image/jpeg:https://biletebrasov.ro/wp-content/uploads/2025/10/Dracula-Film-Festival-2025-Sisu.jpg
END:VEVENT
BEGIN:VEVENT
DTSTART;TZID=Europe/Bucharest:20251101T220000
DTEND;TZID=Europe/Bucharest:20251101T223000
DTSTAMP:20260423T010834
CREATED:20251007T145326Z
LAST-MODIFIED:20251101T191409Z
UID:49142-1762034400-1762036200@biletebrasov.ro
SUMMARY:The Hills Have Eyes (SUA\, 1977)
DESCRIPTION:Preț bilet: 10 leiPentru a cumpăra bilete folosiți butonul alăturat. Apăsați o dată sau de mai multe ori în funcție de câte bilete doriți să cumpărați. \nBILET \nSălbatic şi mortal / The Hills Have Eyes (SUA 1977)\nFilm dedicat actorului Michael Berryman\, desemnat Conte Dracula la Dracula Film Festival 2025 \nPreț bilet: 10 lei \nDurata: 1 h 23 min. \nRegia: Wes Craven \nCu: Michael Berryman\, Susan Lanier\, Dee Wallace \nGen: Horror\, Thriller \nRating: N-15 (Nerecomandat copiilor sub 15 ani) \nRO: Considerat un clasic al genului\, The Hills Have Eyes (1977) al lui Wes Craven transformă o excursie obișnuită a unei familii americane într-un coșmar sângeros\, când aceștia devin prada unui clan de canibali care trăiesc izolați în deșert. Filmul explorează instinctele primare\, frica de necunoscut și fragilitatea civilizației\, devenind una dintre cele mai influente producții horror ale anilor ’70. \nEN: Widely regarded as a genre classic\, Wes Craven’s The Hills Have Eyes (1977) turns an ordinary family road trip into a bloody nightmare when they fall prey to a clan of cannibals living in the desert. Exploring primal instincts\, fear of the unknown\, and the fragility of civilization\, it remains one of the most influential horror films of the 1970s.
URL:https://biletebrasov.ro/eveniment/the-hills-have-eyes-sua-1977/
LOCATION:Cinema Modern\, Sala 1\, Bulevardul Griviței 65\, Brașov\, Brașov\, 500198\, Romania
CATEGORIES:Dracula Film Festival 2025
ATTACH;FMTTYPE=image/jpeg:https://biletebrasov.ro/wp-content/uploads/2025/10/Dracula-Film-Festival-2025-The-hills-have-eyes.jpg
END:VEVENT
BEGIN:VEVENT
DTSTART;TZID=Europe/Bucharest:20251102T110000
DTEND;TZID=Europe/Bucharest:20251102T110000
DTSTAMP:20260423T010834
CREATED:20251007T145638Z
LAST-MODIFIED:20251029T112339Z
UID:49145-1762081200-1762081200@biletebrasov.ro
SUMMARY:Prințesa și Dracula - Cum să salvezi un nemuritor? (2025)
DESCRIPTION:Preț bilet: 15 leiPentru a cumpăra bilete folosiți butonul alăturat. Apăsați o dată sau de mai multe ori în funcție de câte bilete doriți să cumpărați. \nBILET \nCopii fantastici – film pentru copii\nDublat în limba română \nPrințesa și Dracula – Cum să salvezi un nemuritor? (2025)\nPreț bilet unic (copii și adulți): 15 lei \nDurata: 1 h 15 min. \nPremiera în România: 24.10.2025 \nGen: Animație \nRating: AP-12\, Acordul părinților pentru copii sub 12 ani \nRO: „How to Save the Immortal” reinterpretează mitul slav al lui Koschey\, stăpânul nemuririi condamnat la singurătate. Când o vrăjitoare malefică încearcă să-i fure darul vieții veșnice\, Koschey pornește într-o aventură plină de umor și magie alături de curajoasa Varvara\, descoperind că iubirea și încrederea sunt mai puternice decât orice vrajă. \nEN: The film is available only in Romanian-dubbed version. \nHow to Save the Immortal reimagines the Slavic legend of Koschey\, the immortal ruler doomed to loneliness. When an evil witch tries to steal his gift of eternal life\, he embarks on a magical adventure with the brave Varvara.
URL:https://biletebrasov.ro/eveniment/printesa-si-dracula-cum-sa-salvezi-un-nemuritor-2025/
LOCATION:Cinema Modern\, Sala 1\, Bulevardul Griviței 65\, Brașov\, Brașov\, 500198\, Romania
CATEGORIES:Dracula Film Festival 2025
ATTACH;FMTTYPE=image/jpeg:https://biletebrasov.ro/wp-content/uploads/2025/10/Dracula-Film-Festival-2025-Printesa-si-dracula.jpg
END:VEVENT
BEGIN:VEVENT
DTSTART;TZID=Europe/Bucharest:20251102T140000
DTEND;TZID=Europe/Bucharest:20251102T140000
DTSTAMP:20260423T010834
CREATED:20251007T150149Z
LAST-MODIFIED:20251101T191917Z
UID:49150-1762092000-1762092000@biletebrasov.ro
SUMMARY:Film câștigător Dracula Trophy (reluare) - SASYQ
DESCRIPTION:Preț bilet: 10 leiPentru a cumpăra bilete folosiți butonul alăturat. Apăsați o dată sau de mai multe ori în funcție de câte bilete doriți să cumpărați. \nBILET \nFilm câștigător Dracula Trophy (reluare)\nRating: N-15 (Nerecomandat copiilor sub 15 ani)
URL:https://biletebrasov.ro/eveniment/film-castigator-dracula-trophy-reluare/
LOCATION:Cinema Modern\, Sala 1\, Bulevardul Griviței 65\, Brașov\, Brașov\, 500198\, Romania
CATEGORIES:Dracula Film Festival 2025
ATTACH;FMTTYPE=image/jpeg:https://biletebrasov.ro/wp-content/uploads/2025/10/Dracula-Film-Festival-2025-dracula-trophy.jpg
END:VEVENT
BEGIN:VEVENT
DTSTART;TZID=Europe/Bucharest:20251102T163000
DTEND;TZID=Europe/Bucharest:20251102T163000
DTSTAMP:20260423T010834
CREATED:20251007T150516Z
LAST-MODIFIED:20251029T112227Z
UID:49152-1762101000-1762101000@biletebrasov.ro
SUMMARY:Good Boy: Loial până la capăt (SUA\, 2025)
DESCRIPTION:Preț bilet: 25 leiPentru a cumpăra bilete folosiți butonul alăturat. Apăsați o dată sau de mai multe ori în funcție de câte bilete doriți să cumpărați. \nBILET \nGood Boy: Loial până la capăt (SUA 2025)\nPreț bilet: 25 lei \nDurata: 1 h 15 min. \nRegia: Ben Leonberg \nCu: Larry Fessenden\, Arielle Friedman\, Indy\, Shane Jensen\, Anya Krawcheck \nPremiera în România: 24.10.2025 \nGen: Thriller\, Horror \nRating: N-15 (Nerecomandat copiilor sub 15 ani) \nRO: „Good Boy”\, debutul regizorului Ben Leonberg\, spune o poveste horror neobișnuită — prin ochii unui câine. Inspirat de fascinația autorului pentru povești fantastice și supranaturale\, filmul\, realizat alături de propriul său câine\, Indy\, transformă fidelitatea și teama într-o experiență intensă și profund originală. \nEN: Good Boy\, the debut feature by director Ben Leonberg\, delivers an unusual horror story told through the eyes of a dog. Inspired by the filmmaker’s love for the fantastic and supernatural\, the film — starring his own dog\, Indy — turns loyalty and fear into a gripping and deeply original experience.
URL:https://biletebrasov.ro/eveniment/good-boy-loial-pana-la-capat-sua-2025/
LOCATION:Cinema Modern\, Sala 1\, Bulevardul Griviței 65\, Brașov\, Brașov\, 500198\, Romania
CATEGORIES:Dracula Film Festival 2025
ATTACH;FMTTYPE=image/jpeg:https://biletebrasov.ro/wp-content/uploads/2025/10/Dracula-Film-Festival-2025-GoodBoy.jpg
END:VEVENT
BEGIN:VEVENT
DTSTART;TZID=Europe/Bucharest:20251102T180000
DTEND;TZID=Europe/Bucharest:20251102T180000
DTSTAMP:20260423T010834
CREATED:20251007T152244Z
LAST-MODIFIED:20251029T112152Z
UID:49154-1762106400-1762106400@biletebrasov.ro
SUMMARY:Vie privée (Franța\, 2025)
DESCRIPTION:Preț bilet: 25 leiPentru a cumpăra bilete folosiți butonul alăturat. Apăsați o dată sau de mai multe ori în funcție de câte bilete doriți să cumpărați. \nBILET \nA Private Life / Vie privée (Franța\, 2025) \nAvanpremieră națională \nPreț bilet: 25 lei \nDurata: 1 h 45 min. \nRegia: Rebecca Zlotowski \nCu: Jodie Foster\, Daniel Auteuil\, Virginie Efira \nPremiera în România: 09.01.2026 \nGen: Crimă\, Mister \nRating: N-15 (Nerecomandat copiilor sub 15 ani) \nRO: În A Private Life\, Jodie Foster o interpretează pe Liliane Steiner\, o psihiatra americană stabilită la Paris\, a cărei viață se destramă după moartea misterioasă a unei paciente. Convinsă că nu a fost vorba de o sinucidere\, Liliane începe o anchetă personală care transformă rațiunea în obsesie\, într-un thriller psihologic rafinat semnat de Rebecca Zlotowski. \nEN: In A Private Life\, Jodie Foster plays Liliane Steiner\, an American psychiatrist living in Paris whose life unravels after the mysterious death of one of her patients. Convinced it wasn’t suicide\, she launches her own investigation\, blurring the line between reason and obsession in Rebecca Zlotowski’s elegant psychological thriller.
URL:https://biletebrasov.ro/eveniment/vie-privee-franta-2025/
LOCATION:Cinema Modern\, Sala 1\, Bulevardul Griviței 65\, Brașov\, Brașov\, 500198\, Romania
CATEGORIES:Dracula Film Festival 2025
ATTACH;FMTTYPE=image/jpeg:https://biletebrasov.ro/wp-content/uploads/2025/10/Dracula-Film-Festival-2025-A-private-life.jpg
END:VEVENT
BEGIN:VEVENT
DTSTART;TZID=Europe/Bucharest:20251102T200000
DTEND;TZID=Europe/Bucharest:20251102T200000
DTSTAMP:20260423T010834
CREATED:20251007T152530Z
LAST-MODIFIED:20251029T112134Z
UID:49157-1762113600-1762113600@biletebrasov.ro
SUMMARY:Primate (SUA\, 2025)
DESCRIPTION:Preț bilet: 25 leiPentru a cumpăra bilete folosiți butonul alăturat. Apăsați o dată sau de mai multe ori în funcție de câte bilete doriți să cumpărați. \nBILET \nInstinct primal / Primate (SUA\, 2025) \nAvanpremieră națională \nPreț bilet: 25 lei \nDurata: 1 h 29 min. \nRegia: Johannes Roberts \nCu: Kevin McNally\, Johnny Sequoyah\, Troy Kotsur\, Jessica Alexander\, Kae Yukawa \nPremiera în România: 09.01.2026 \nGen: Horror \nRating: N-15 (Nerecomandat copiilor sub 15 ani) \nRO: Întoarsă acasă de la facultate\, Lucy își regăsește familia și animalul de companie\, un cimpanzeu pe nume Ben. Când Ben se îmbolnăvește de rabie în timpul unei petreceri la piscină\, atmosfera se transformă într-un coșmar. Izolați și terorizați\, Lucy și prietenii ei caută o cale de supraviețuire. \nEN: Back home from college\, Lucy joins her family and their pet chimp\, Ben\, for a summer reunion. But when Ben contracts rabies during a pool party\, the cheerful gathering turns into a nightmare. Trapped by the raging chimp\, Lucy and her friends must fight to survive.
URL:https://biletebrasov.ro/eveniment/primate-sua-2025/
LOCATION:Cinema Modern\, Sala 1\, Bulevardul Griviței 65\, Brașov\, Brașov\, 500198\, Romania
CATEGORIES:Dracula Film Festival 2025
ATTACH;FMTTYPE=image/jpeg:https://biletebrasov.ro/wp-content/uploads/2025/10/Dracula-Film-Festival-2025-Primate.jpg
END:VEVENT
END:VCALENDAR